BEGIN:VCALENDAR
VERSION:2.0
PRODID:-//Ambachtscentrum Goes - ECPv6.15.20//NONSGML v1.0//EN
CALSCALE:GREGORIAN
METHOD:PUBLISH
X-WR-CALNAME:Ambachtscentrum Goes
X-ORIGINAL-URL:https://ambachtscentrumgoes.nl
X-WR-CALDESC:Evenementen voor Ambachtscentrum Goes
REFRESH-INTERVAL;VALUE=DURATION:PT1H
X-Robots-Tag:noindex
X-PUBLISHED-TTL:PT1H
BEGIN:VTIMEZONE
TZID:Europe/Amsterdam
BEGIN:DAYLIGHT
TZOFFSETFROM:+0100
TZOFFSETTO:+0200
TZNAME:CEST
DTSTART:20240331T010000
END:DAYLIGHT
BEGIN:STANDARD
TZOFFSETFROM:+0200
TZOFFSETTO:+0100
TZNAME:CET
DTSTART:20241027T010000
END:STANDARD
BEGIN:DAYLIGHT
TZOFFSETFROM:+0100
TZOFFSETTO:+0200
TZNAME:CEST
DTSTART:20250330T010000
END:DAYLIGHT
BEGIN:STANDARD
TZOFFSETFROM:+0200
TZOFFSETTO:+0100
TZNAME:CET
DTSTART:20251026T010000
END:STANDARD
BEGIN:DAYLIGHT
TZOFFSETFROM:+0100
TZOFFSETTO:+0200
TZNAME:CEST
DTSTART:20260329T010000
END:DAYLIGHT
BEGIN:STANDARD
TZOFFSETFROM:+0200
TZOFFSETTO:+0100
TZNAME:CET
DTSTART:20261025T010000
END:STANDARD
END:VTIMEZONE
BEGIN:VTIMEZONE
TZID:Europe/Helsinki
BEGIN:DAYLIGHT
TZOFFSETFROM:+0200
TZOFFSETTO:+0300
TZNAME:EEST
DTSTART:20240331T010000
END:DAYLIGHT
BEGIN:STANDARD
TZOFFSETFROM:+0300
TZOFFSETTO:+0200
TZNAME:EET
DTSTART:20241027T010000
END:STANDARD
BEGIN:DAYLIGHT
TZOFFSETFROM:+0200
TZOFFSETTO:+0300
TZNAME:EEST
DTSTART:20250330T010000
END:DAYLIGHT
BEGIN:STANDARD
TZOFFSETFROM:+0300
TZOFFSETTO:+0200
TZNAME:EET
DTSTART:20251026T010000
END:STANDARD
BEGIN:DAYLIGHT
TZOFFSETFROM:+0200
TZOFFSETTO:+0300
TZNAME:EEST
DTSTART:20260329T010000
END:DAYLIGHT
BEGIN:STANDARD
TZOFFSETFROM:+0300
TZOFFSETTO:+0200
TZNAME:EET
DTSTART:20261025T010000
END:STANDARD
END:VTIMEZONE
BEGIN:VEVENT
DTSTART;TZID=Europe/Amsterdam:20251120T190000
DTEND;TZID=Europe/Amsterdam:20251120T220000
DTSTAMP:20260423T123615
CREATED:20251103T213046Z
LAST-MODIFIED:20251103T213057Z
UID:693-1763665200-1763676000@ambachtscentrumgoes.nl
SUMMARY:Gnoom met amaryllis 20-11
DESCRIPTION:Zin in een leuke workshop voor volwassenen? Dat kan! \nWil jij ook deze leuke schaal maken met gnoom en amaryllis? We gaan werken in een groep van 4 personen. Kosten € 27\,50 inclusief koffie / thee en wat lekkers. Ben je lid van Vrienden van het Ambachtscentrum? Dan krijg je € 5\,- korting! \nSchrijf snel in want vol=vol. Opgeven kan in de winkel. \n\n13 november 14.00 – 17.00 uur\n13 november 19.00 – 22.00 uur\n20 november 14.00 – 17.00 uur\n20 november 19.00 – 22.00 uur
URL:https://ambachtscentrumgoes.nl/activiteit/gnoom-met-amaryllis-20-11-2/
LOCATION:Korte Kerkstraat\, Korte Kerkstraat\, Goes\, Zeeland\, Netherlands
ATTACH;FMTTYPE=image/jpeg:https://ambachtscentrumgoes.nl/wp-content/uploads/2025/11/WhatsApp-Image-2025-11-03-at-10.37.21.jpeg
END:VEVENT
BEGIN:VEVENT
DTSTART;TZID=Europe/Amsterdam:20251120T140000
DTEND;TZID=Europe/Amsterdam:20251120T170000
DTSTAMP:20260423T123615
CREATED:20251103T213027Z
LAST-MODIFIED:20251103T213031Z
UID:691-1763647200-1763658000@ambachtscentrumgoes.nl
SUMMARY:Gnoom met amaryllis 20-11
DESCRIPTION:Zin in een leuke workshop voor volwassenen? Dat kan! \nWil jij ook deze leuke schaal maken met gnoom en amaryllis? We gaan werken in een groep van 4 personen. Kosten € 27\,50 inclusief koffie / thee en wat lekkers. Ben je lid van Vrienden van het Ambachtscentrum? Dan krijg je € 5\,- korting! \nSchrijf snel in want vol=vol. Opgeven kan in de winkel. \n\n13 november 14.00 – 17.00 uur\n13 november 19.00 – 22.00 uur\n20 november 14.00 – 17.00 uur\n20 november 19.00 – 22.00 uur
URL:https://ambachtscentrumgoes.nl/activiteit/gnoom-met-amaryllis-20-11/
LOCATION:Korte Kerkstraat\, Korte Kerkstraat\, Goes\, Zeeland\, Netherlands
ATTACH;FMTTYPE=image/jpeg:https://ambachtscentrumgoes.nl/wp-content/uploads/2025/11/WhatsApp-Image-2025-11-03-at-10.37.21.jpeg
END:VEVENT
BEGIN:VEVENT
DTSTART;TZID=Europe/Amsterdam:20251113T190000
DTEND;TZID=Europe/Amsterdam:20251113T220000
DTSTAMP:20260423T123615
CREATED:20251103T212932Z
LAST-MODIFIED:20251103T212953Z
UID:687-1763060400-1763071200@ambachtscentrumgoes.nl
SUMMARY:Gnoom met amaryllis 13-11
DESCRIPTION:Zin in een leuke workshop voor volwassenen? Dat kan! \nWil jij ook deze leuke schaal maken met gnoom en amaryllis? We gaan werken in een groep van 4 personen. Kosten € 27\,50 inclusief koffie / thee en wat lekkers. Ben je lid van Vrienden van het Ambachtscentrum? Dan krijg je € 5\,- korting! \nSchrijf snel in want vol=vol. Opgeven kan in de winkel. \n\n13 november 14.00 – 17.00 uur\n13 november 19.00 – 22.00 uur\n20 november 14.00 – 17.00 uur\n20 november 19.00 – 22.00 uur
URL:https://ambachtscentrumgoes.nl/activiteit/gnoom-met-amaryllis-copy/
LOCATION:Korte Kerkstraat\, Korte Kerkstraat\, Goes\, Zeeland\, Netherlands
ATTACH;FMTTYPE=image/jpeg:https://ambachtscentrumgoes.nl/wp-content/uploads/2025/11/WhatsApp-Image-2025-11-03-at-10.37.21.jpeg
END:VEVENT
BEGIN:VEVENT
DTSTART;TZID=Europe/Amsterdam:20251113T140000
DTEND;TZID=Europe/Amsterdam:20251113T170000
DTSTAMP:20260423T123615
CREATED:20251103T212518Z
LAST-MODIFIED:20251103T212959Z
UID:684-1763042400-1763053200@ambachtscentrumgoes.nl
SUMMARY:Gnoom met amaryllis 13-11
DESCRIPTION:Zin in een leuke workshop voor volwassenen? Dat kan! \nWil jij ook deze leuke schaal maken met gnoom en amaryllis? We gaan werken in een groep van 4 personen. Kosten € 27\,50 inclusief koffie / thee en wat lekkers. Ben je lid van Vrienden van het Ambachtscentrum? Dan krijg je € 5\,- korting! \nSchrijf snel in want vol=vol. Opgeven kan in de winkel. \n\n13 november 14.00 – 17.00 uur\n13 november 19.00 – 22.00 uur\n20 november 14.00 – 17.00 uur\n20 november 19.00 – 22.00 uur
URL:https://ambachtscentrumgoes.nl/activiteit/gnoom-met-amaryllis/
LOCATION:Korte Kerkstraat\, Korte Kerkstraat\, Goes\, Zeeland\, Netherlands
ATTACH;FMTTYPE=image/jpeg:https://ambachtscentrumgoes.nl/wp-content/uploads/2025/11/WhatsApp-Image-2025-11-03-at-10.37.21.jpeg
END:VEVENT
BEGIN:VEVENT
DTSTART;TZID=Europe/Helsinki:20251004T120000
DTEND;TZID=Europe/Helsinki:20251004T170000
DTSTAMP:20260423T123615
CREATED:20250826T154503Z
LAST-MODIFIED:20250827T213016Z
UID:457-1759579200-1759597200@ambachtscentrumgoes.nl
SUMMARY:Heropening Ambachtscentrum
DESCRIPTION:Op 4 oktober wordt het Ambachtscentrum in vernieuwde vorm geopend in de tijdelijke locatie aan de Korte Kerkstraat in Goes. \nDe details volgen later nog\, volg ons om op de hoogte te blijven.
URL:https://ambachtscentrumgoes.nl/activiteit/heropening-ambachtscentrum/
LOCATION:Korte Kerkstraat\, Korte Kerkstraat\, Goes\, Zeeland\, Netherlands
END:VEVENT
END:VCALENDAR